BEGIN:VCALENDAR
VERSION:2.0
PRODID:-//Page6 - ECPv6.15.11//NONSGML v1.0//EN
CALSCALE:GREGORIAN
METHOD:PUBLISH
X-ORIGINAL-URL:https://page6.zatorski.org
X-WR-CALDESC:Wydarzenia dla Page6
REFRESH-INTERVAL;VALUE=DURATION:PT1H
X-Robots-Tag:noindex
X-PUBLISHED-TTL:PT1H
BEGIN:VTIMEZONE
TZID:Europe/Warsaw
BEGIN:DAYLIGHT
TZOFFSETFROM:+0100
TZOFFSETTO:+0200
TZNAME:CEST
DTSTART:20240331T010000
END:DAYLIGHT
BEGIN:STANDARD
TZOFFSETFROM:+0200
TZOFFSETTO:+0100
TZNAME:CET
DTSTART:20241027T010000
END:STANDARD
BEGIN:DAYLIGHT
TZOFFSETFROM:+0100
TZOFFSETTO:+0200
TZNAME:CEST
DTSTART:20250330T010000
END:DAYLIGHT
BEGIN:STANDARD
TZOFFSETFROM:+0200
TZOFFSETTO:+0100
TZNAME:CET
DTSTART:20251026T010000
END:STANDARD
BEGIN:DAYLIGHT
TZOFFSETFROM:+0100
TZOFFSETTO:+0200
TZNAME:CEST
DTSTART:20260329T010000
END:DAYLIGHT
BEGIN:STANDARD
TZOFFSETFROM:+0200
TZOFFSETTO:+0100
TZNAME:CET
DTSTART:20261025T010000
END:STANDARD
END:VTIMEZONE
BEGIN:VEVENT
DTSTART;TZID=Europe/Warsaw:20250918T000000
DTEND;TZID=Europe/Warsaw:20250918T235900
DTSTAMP:20260419T223423
CREATED:20250914T111621Z
LAST-MODIFIED:20250915T201033Z
UID:93-1758153600-1758239940@page6.zatorski.org
SUMMARY:Praesent ac diam leo. Mauris malesuada ante vitae justo convallis tincidunt.
DESCRIPTION:
URL:https://page6.zatorski.org/szkolenie/praesent-ac-diam-leo-mauris-malesuada-ante-vitae-justo-convallis-tincidunt/
LOCATION:Uczelnia Korczaka – Akademia Nauk Stosowanych\, ul. Lirowa 27\, Warszawa\, 02-387\, Poland
ATTACH;FMTTYPE=image/jpeg:https://page6.zatorski.org/wp-content/uploads/2025/09/uczelnia-korczaka-szkolenia-2.jpg
ORGANIZER;CN="Uczelnia Korczaka %E2%80%93 Akademia Nauk Stosowanych":MAILTO:szkolenia@uczelniakorczaka.pl
END:VEVENT
BEGIN:VEVENT
DTSTART;TZID=Europe/Warsaw:20250916T000000
DTEND;TZID=Europe/Warsaw:20250916T235900
DTSTAMP:20260419T223423
CREATED:20250914T111621Z
LAST-MODIFIED:20250915T201124Z
UID:96-1757980800-1758067140@page6.zatorski.org
SUMMARY:Maecenas dui nunc\, posuere id risus sit amet.
DESCRIPTION:
URL:https://page6.zatorski.org/szkolenie/maecenas-dui-nunc-posuere-id-risus-sit-amet/
LOCATION:Uczelnia Korczaka – Akademia Nauk Stosowanych\, ul. Lirowa 27\, Warszawa\, 02-387\, Poland
ATTACH;FMTTYPE=image/jpeg:https://page6.zatorski.org/wp-content/uploads/2025/09/uczelnia-korczaka-szkolenia-4.jpg
ORGANIZER;CN="Uczelnia Korczaka %E2%80%93 Akademia Nauk Stosowanych":MAILTO:szkolenia@uczelniakorczaka.pl
END:VEVENT
BEGIN:VEVENT
DTSTART;VALUE=DATE:20250914
DTEND;VALUE=DATE:20250929
DTSTAMP:20260419T223423
CREATED:20250914T111621Z
LAST-MODIFIED:20250914T194058Z
UID:97-1757808000-1759103999@page6.zatorski.org
SUMMARY:Integer lobortis dui et finibus sollicitudin.
DESCRIPTION:
URL:https://page6.zatorski.org/szkolenie/integer-lobortis-dui-et-finibus-sollicitudin/
LOCATION:Uczelnia Korczaka – Akademia Nauk Stosowanych\, ul. Lirowa 27\, Warszawa\, 02-387\, Poland
ATTACH;FMTTYPE=image/jpeg:https://page6.zatorski.org/wp-content/uploads/2025/09/uczelnia-korczaka-szkolenia-3.jpg
ORGANIZER;CN="Uczelnia Korczaka %E2%80%93 Akademia Nauk Stosowanych":MAILTO:szkolenia@uczelniakorczaka.pl
END:VEVENT
BEGIN:VEVENT
DTSTART;VALUE=DATE:20250914
DTEND;VALUE=DATE:20250929
DTSTAMP:20260419T223423
CREATED:20250914T111621Z
LAST-MODIFIED:20250914T194102Z
UID:98-1757808000-1759103999@page6.zatorski.org
SUMMARY:Donec ultricies mollis sem\, vitae fermentum ligula pharetra sed.
DESCRIPTION:
URL:https://page6.zatorski.org/szkolenie/donec-ultricies-mollis-sem-vitae-fermentum-ligula-pharetra-sed/
LOCATION:Uczelnia Korczaka – Akademia Nauk Stosowanych\, ul. Lirowa 27\, Warszawa\, 02-387\, Poland
ATTACH;FMTTYPE=image/jpeg:https://page6.zatorski.org/wp-content/uploads/2025/09/uczelnia-korczaka-szkolenia-1.jpg
ORGANIZER;CN="Uczelnia Korczaka %E2%80%93 Akademia Nauk Stosowanych":MAILTO:szkolenia@uczelniakorczaka.pl
END:VEVENT
BEGIN:VEVENT
DTSTART;VALUE=DATE:20250914
DTEND;VALUE=DATE:20250929
DTSTAMP:20260419T223423
CREATED:20250914T111621Z
LAST-MODIFIED:20250914T194053Z
UID:95-1757808000-1759103999@page6.zatorski.org
SUMMARY:Mauris cursus libero quis fringilla lacinia.
DESCRIPTION:
URL:https://page6.zatorski.org/szkolenie/mauris-cursus-libero-quis-fringilla-lacinia/
LOCATION:Uczelnia Korczaka – Akademia Nauk Stosowanych\, ul. Lirowa 27\, Warszawa\, 02-387\, Poland
ATTACH;FMTTYPE=image/jpeg:https://page6.zatorski.org/wp-content/uploads/2025/09/uczelnia-korczaka-szkolenia-9.jpg
ORGANIZER;CN="Uczelnia Korczaka %E2%80%93 Akademia Nauk Stosowanych":MAILTO:szkolenia@uczelniakorczaka.pl
END:VEVENT
END:VCALENDAR